BEGIN:VCALENDAR
VERSION:2.0
PRODID:www.stappen-shoppen.nl
BEGIN:VEVENT
UID:stappen-shoppen.nl/entity/69ea279e69e23576630a334b
DTSTAMP:20260424T133249Z
ORGANIZER;CN=:MAILTO:
DTSTART:20260424T135700Z
DTEND:20260424T135700Z
URL:https://www.hetsmalstestukjenederland.nl/ical/69ea279e69e23576630a334b
SUMMARY:Kienavond
DESCRIPTION:Kienavond bij Hubertusput Echt
END:VEVENT
END:VCALENDAR

