BEGIN:VCALENDAR
VERSION:2.0
PRODID:www.stappen-shoppen.nl
BEGIN:VEVENT
UID:stappen-shoppen.nl/entity/69e1e132785402b1ad033b24
DTSTAMP:20260421T105657Z
ORGANIZER;CN=:MAILTO:
DTSTART:20260508T130000Z
DTEND:20260511T200000Z
URL:https://www.hetsmalstestukjenederland.nl/ical/69e1e132785402b1ad033b24
SUMMARY:Feest in Koningsbosch!
DESCRIPTION:Vierdaags jubileumfeest met muziek en tradities
END:VEVENT
END:VCALENDAR

