BEGIN:VCALENDAR
VERSION:2.0
PRODID:www.stappen-shoppen.nl
BEGIN:VEVENT
UID:stappen-shoppen.nl/entity/693fa635f64508488b063792
DTSTAMP:20260422T133053Z
ORGANIZER;CN=:MAILTO:
DTSTART:20260101T110000Z
DTEND:20260101T140000Z
URL:https://www.hetsmalstestukjenederland.nl/ical/693fa635f64508488b063792
SUMMARY:Nieuwjaarsbijeenkomst in Groot Pey
DESCRIPTION:Nieuwjaarsbijeenkomst met koffie en wafel
END:VEVENT
END:VCALENDAR

