BEGIN:VCALENDAR
VERSION:2.0
PRODID:www.stappen-shoppen.nl
BEGIN:VEVENT
UID:stappen-shoppen.nl/entity/693a86283063607b980f3a75
DTSTAMP:20260422T123834Z
ORGANIZER;CN=:MAILTO:aestersjaelenuul@gmail.com
DTSTART:20260103T183300Z
DTEND:20260104T003000Z
URL:https://www.hetsmalstestukjenederland.nl/ical/693a86283063607b980f3a75
SUMMARY:Uitroepen Prins 2026 - Pey
DESCRIPTION:Voor het komende carnavalsseizoen
END:VEVENT
END:VCALENDAR

