BEGIN:VCALENDAR
VERSION:2.0
PRODID:www.stappen-shoppen.nl
BEGIN:VEVENT
UID:stappen-shoppen.nl/entity/69301042a104b7403309b66e
DTSTAMP:20260421T092744Z
ORGANIZER;CN=:MAILTO:
DTSTART:20251220T080000Z
DTEND:20251220T120000Z
URL:https://www.hetsmalstestukjenederland.nl/ical/69301042a104b7403309b66e
SUMMARY:Sfeervolle winterse plantdag in Dieteren
DESCRIPTION:Heggen planten en natuur beleven in Dieteren
END:VEVENT
END:VCALENDAR

