BEGIN:VCALENDAR
VERSION:2.0
PRODID:www.stappen-shoppen.nl
BEGIN:VEVENT
UID:stappen-shoppen.nl/entity/6914617d4abd7214bb03e8a3
DTSTAMP:20260422T101915Z
ORGANIZER;CN=:MAILTO:
DTSTART:20251115T130000Z
DTEND:20251115T140000Z
URL:https://www.hetsmalstestukjenederland.nl/ical/6914617d4abd7214bb03e8a3
SUMMARY:Wandeling langs de pannen
DESCRIPTION:Gidswandeling langs historische Pannenfabriek
END:VEVENT
END:VCALENDAR

