BEGIN:VCALENDAR
VERSION:2.0
PRODID:www.stappen-shoppen.nl
BEGIN:VEVENT
UID:stappen-shoppen.nl/entity/6909c7dbd856a3789a0f45e1
DTSTAMP:20260421T103005Z
ORGANIZER;CN=:MAILTO:buurthingen@gmail.com
DTSTART:20251213T114500Z
DTEND:20251213T190000Z
URL:https://www.hetsmalstestukjenederland.nl/ical/6909c7dbd856a3789a0f45e1
SUMMARY:Dagtocht naar Kerstmarkt in Keulen
DESCRIPTION:Buurtvereniging St. Antoniusput Hingen
END:VEVENT
END:VCALENDAR

