BEGIN:VCALENDAR
VERSION:2.0
PRODID:www.stappen-shoppen.nl
BEGIN:VEVENT
UID:stappen-shoppen.nl/entity/68d3b018c1355cfe3104dbea
DTSTAMP:20260421T202409Z
ORGANIZER;CN=:MAILTO:
DTSTART:20250928T060000Z
DTEND:20250928T110000Z
URL:https://www.hetsmalstestukjenederland.nl/ical/68d3b018c1355cfe3104dbea
SUMMARY:Herfsttocht WandelSport Vereniging Echt
DESCRIPTION:Jaarlijkse wandeltocht door natuur en grensgebied
END:VEVENT
END:VCALENDAR

