BEGIN:VCALENDAR
VERSION:2.0
PRODID:www.stappen-shoppen.nl
BEGIN:VEVENT
UID:stappen-shoppen.nl/entity/68c12c9ebb5a8d523f02393b
DTSTAMP:20260421T080038Z
ORGANIZER;CN=:MAILTO:
DTSTART:20251025T100000Z
DTEND:20251025T140000Z
URL:https://www.hetsmalstestukjenederland.nl/ical/68c12c9ebb5a8d523f02393b
SUMMARY:Dag van de vlaai
DESCRIPTION:Proef een gratis puntje
END:VEVENT
END:VCALENDAR

