BEGIN:VCALENDAR
VERSION:2.0
PRODID:www.stappen-shoppen.nl
BEGIN:VEVENT
UID:stappen-shoppen.nl/entity/689eee6ff60000dc2b044df4
DTSTAMP:20260422T061123Z
ORGANIZER;CN=:MAILTO:kultkefeech@gmail.com
DTSTART:20250824T111500Z
DTEND:20250824T160000Z
URL:https://www.hetsmalstestukjenederland.nl/ical/689eee6ff60000dc2b044df4
SUMMARY:Kultkefee Boete
DESCRIPTION:Ode aan de Vrijheid
END:VEVENT
END:VCALENDAR

