BEGIN:VCALENDAR
VERSION:2.0
PRODID:www.stappen-shoppen.nl
BEGIN:VEVENT
UID:stappen-shoppen.nl/entity/68112660c4c3561bf204b0f3
DTSTAMP:20260422T042529Z
ORGANIZER;CN=:MAILTO:Lauravalkenburg@msn.com
DTSTART:20250510T110000Z
DTEND:20250510T130000Z
URL:https://www.hetsmalstestukjenederland.nl/ical/68112660c4c3561bf204b0f3
SUMMARY:Kinderkleding- en speelgoedmarkt Sint Joost
DESCRIPTION:Een 40-tal kraampjes met kleding en speelgoed
END:VEVENT
END:VCALENDAR

