BEGIN:VCALENDAR
VERSION:2.0
PRODID:www.stappen-shoppen.nl
BEGIN:VEVENT
UID:stappen-shoppen.nl/entity/67d161cf62662fd34407d174
DTSTAMP:20260421T081111Z
ORGANIZER;CN=:MAILTO:
DTSTART:20250321T190000Z
DTEND:20250312T213000Z
URL:https://www.hetsmalstestukjenederland.nl/ical/67d161cf62662fd34407d174
SUMMARY:"Bouvier aan de kètting" door "Oppe plenk Nuujstadt"
DESCRIPTION:Dialecttoneel vol humor en intriges
END:VEVENT
BEGIN:VEVENT
UID:stappen-shoppen.nl/entity/67d161cf62662fd34407d174
DTSTAMP:20260421T081111Z
ORGANIZER;CN=:MAILTO:
DTSTART:20250322T190000Z
DTEND:20250322T213000Z
URL:https://www.hetsmalstestukjenederland.nl/ical/67d161cf62662fd34407d174
SUMMARY:"Bouvier aan de kètting" door "Oppe plenk Nuujstadt"
DESCRIPTION:Dialecttoneel vol humor en intriges
END:VEVENT
BEGIN:VEVENT
UID:stappen-shoppen.nl/entity/67d161cf62662fd34407d174
DTSTAMP:20260421T081111Z
ORGANIZER;CN=:MAILTO:
DTSTART:20250329T190000Z
DTEND:20250329T213000Z
URL:https://www.hetsmalstestukjenederland.nl/ical/67d161cf62662fd34407d174
SUMMARY:"Bouvier aan de kètting" door "Oppe plenk Nuujstadt"
DESCRIPTION:Dialecttoneel vol humor en intriges
END:VEVENT
BEGIN:VEVENT
UID:stappen-shoppen.nl/entity/67d161cf62662fd34407d174
DTSTAMP:20260421T081111Z
ORGANIZER;CN=:MAILTO:
DTSTART:20250330T123000Z
DTEND:20250330T150000Z
URL:https://www.hetsmalstestukjenederland.nl/ical/67d161cf62662fd34407d174
SUMMARY:"Bouvier aan de kètting" door "Oppe plenk Nuujstadt"
DESCRIPTION:Dialecttoneel vol humor en intriges
END:VEVENT
END:VCALENDAR

