BEGIN:VCALENDAR
VERSION:2.0
PRODID:www.stappen-shoppen.nl
BEGIN:VEVENT
UID:stappen-shoppen.nl/entity/646dc3b4a2e23d063807ed84
DTSTAMP:20260421T080636Z
ORGANIZER;CN=:MAILTO:
DTSTART:20260328T190000Z
DTEND:20260328T225500Z
URL:https://www.hetsmalstestukjenederland.nl/ical/646dc3b4a2e23d063807ed84
SUMMARY:Dansen St. Joris
DESCRIPTION:Dansschoenen aan en de voetjes van de vloer
END:VEVENT
END:VCALENDAR

