BEGIN:VCALENDAR
VERSION:2.0
PRODID:www.stappen-shoppen.nl
BEGIN:VEVENT
UID:stappen-shoppen.nl/entity/63e4bea06e8a5d617104a0f0
DTSTAMP:20260421T094114Z
ORGANIZER;CN=:MAILTO:
DTSTART:20260217T141100Z
DTEND:20260217T150000Z
URL:https://www.hetsmalstestukjenederland.nl/ical/63e4bea06e8a5d617104a0f0
SUMMARY:Jeugdoptocht Nieuwstadt
DESCRIPTION:CV De Foetelaers
END:VEVENT
END:VCALENDAR

