BEGIN:VCALENDAR
VERSION:2.0
PRODID:www.stappen-shoppen.nl
BEGIN:VEVENT
UID:stappen-shoppen.nl/entity/63ce35e35b7c883f3203b78c
DTSTAMP:20260421T075340Z
ORGANIZER;CN=:MAILTO:
DTSTART:20260216T131100Z
DTEND:20260216T160000Z
URL:https://www.hetsmalstestukjenederland.nl/ical/63ce35e35b7c883f3203b78c
SUMMARY:Grote optocht Nieuwstadt
DESCRIPTION:CV De Foetelaers
END:VEVENT
END:VCALENDAR

