BEGIN:VCALENDAR
VERSION:2.0
PRODID:www.stappen-shoppen.nl
BEGIN:VEVENT
UID:stappen-shoppen.nl/entity/63ca9a69e21a7a32760cfeba
DTSTAMP:20260421T183456Z
ORGANIZER;CN=:MAILTO:
DTSTART:20260215T131100Z
DTEND:20260215T160000Z
URL:https://www.hetsmalstestukjenederland.nl/ical/63ca9a69e21a7a32760cfeba
SUMMARY:Grote optocht Roosteren
DESCRIPTION:CV Borchgrave
END:VEVENT
END:VCALENDAR

